<VRTDataset rasterXSize="147124" rasterYSize="73931">
  <SRS dataAxisToSRSAxisMapping="1,2">PROJCS["NAD83(HARN) / Washington North (ftUS)",GEOGCS["NAD83(HARN)",DATUM["NAD83_High_Accuracy_Reference_Network",SPHEROID["GRS 1980",6378137,298.257222101004,AUTHORITY["EPSG","7019"]],AUTHORITY["EPSG","6152"]],PRIMEM["Greenwich",0],UNIT["degree",0.0174532925199433,AUTHORITY["EPSG","9122"]]],PROJECTION["Lambert_Conformal_Conic_2SP"],PARAMETER["latitude_of_origin",47],PARAMETER["central_meridian",-120.833333333333],PARAMETER["standard_parallel_1",47.5],PARAMETER["standard_parallel_2",48.7333333333333],PARAMETER["false_easting",1640416.66666667],PARAMETER["false_northing",0],UNIT["US survey foot",0.304800609601219,AUTHORITY["EPSG","9003"]],AXIS["Easting",EAST],AXIS["Northing",NORTH]]</SRS>
  <GeoTransform>  1.1604136787525567e+06,  3.0000000000000000e+00,  0.0000000000000000e+00,  6.3974193398018880e+05,  0.0000000000000000e+00, -3.0000000000000000e+00</GeoTransform>
  <VRTRasterBand dataType="Float32" band="1">
    <Metadata>
      <MDI key="STATISTICS_MAXIMUM">7422.40625</MDI>
      <MDI key="STATISTICS_MEAN">1018.1359135817</MDI>
      <MDI key="STATISTICS_MINIMUM">-528.625</MDI>
      <MDI key="STATISTICS_STDDEV">1273.9429725392</MDI>
    </Metadata>
    <NoDataValue>-9999</NoDataValue>
    <ColorInterp>Gray</ColorInterp>
    <ComplexSource>
      <SourceFilename relativeToVRT="1">Skagit_Terrain_R0m.mosaic_r0m.tif</SourceFilename>
      <SourceBand>1</SourceBand>
      <SourceProperties RasterXSize="147124" RasterYSize="73931" DataType="Float32" BlockXSize="256" BlockYSize="256" />
      <SrcRect xOff="0" yOff="0" xSize="147124" ySize="73931" />
      <DstRect xOff="0" yOff="0" xSize="147124" ySize="73931" />
      <NODATA>-9999</NODATA>
    </ComplexSource>
  </VRTRasterBand>
</VRTDataset>
